BEGIN:VCALENDAR
VERSION:2.0
PRODID:-//Saalfelden-Leogang.com//NONSGML kigkonsult.se iCalcreator 2.22.1/
 /DE
METHOD:PUBLISH
X-WR-CALNAME;LANGUAGE=de:Saalfelden-Leogang.com
X-WR-CALDESC;LANGUAGE=de:Saalfelden-Leogang.com
X-WR-TIMEZONE;LANGUAGE=de:Europe/Berlin
BEGIN:VEVENT
UID:20260422T194453CEST-2734AcGOvN@Saalfelden-Leogang.com
DTSTAMP:20260422T174453Z
DESCRIPTION;LANGUAGE=de:Jeden Samstag – White Night  mit DJ Marc Kukka\n\n 
 Stylische Saturday-Night auf der Forsthofalm. Glamour\, Beats & Mountain V
 ibes bis November 2026.\n\n Start: 21:00 Uhr\n\n Adresse: Forsthofalm\, Hü
 tten 37\, 5771 Leogang\n\n\n\nDresscode: WHITE
DTSTART:20260509T190000Z
DTEND:20260509T190000Z
LOCATION;LANGUAGE=de:Holzhotel Forsthofalm\, Hütten 37
SUMMARY;LANGUAGE=de:White Night Forsthofalm
END:VEVENT
BEGIN:VEVENT
UID:20260422T194453CEST-2735VGusiN@Saalfelden-Leogang.com
DTSTAMP:20260422T174453Z
DESCRIPTION;LANGUAGE=de:Jeden Samstag – White Night  mit DJ Marc Kukka\n\n 
 Stylische Saturday-Night auf der Forsthofalm. Glamour\, Beats & Mountain V
 ibes bis November 2026.\n\n Start: 21:00 Uhr\n\n Adresse: Forsthofalm\, Hü
 tten 37\, 5771 Leogang\n\n\n\nDresscode: WHITE
DTSTART:20260516T190000Z
DTEND:20260516T190000Z
LOCATION;LANGUAGE=de:Holzhotel Forsthofalm\, Hütten 37
SUMMARY;LANGUAGE=de:White Night Forsthofalm
END:VEVENT
BEGIN:VEVENT
UID:20260422T194453CEST-2735H2oXEu@Saalfelden-Leogang.com
DTSTAMP:20260422T174453Z
DESCRIPTION;LANGUAGE=de:Jeden Samstag – White Night  mit DJ Marc Kukka\n\n 
 Stylische Saturday-Night auf der Forsthofalm. Glamour\, Beats & Mountain V
 ibes bis November 2026.\n\n Start: 21:00 Uhr\n\n Adresse: Forsthofalm\, Hü
 tten 37\, 5771 Leogang\n\n\n\nDresscode: WHITE
DTSTART:20260523T190000Z
DTEND:20260523T190000Z
LOCATION;LANGUAGE=de:Holzhotel Forsthofalm\, Hütten 37
SUMMARY;LANGUAGE=de:White Night Forsthofalm
END:VEVENT
BEGIN:VEVENT
UID:20260422T194453CEST-2735oBcBdS@Saalfelden-Leogang.com
DTSTAMP:20260422T174453Z
DESCRIPTION;LANGUAGE=de:Jeden Samstag – White Night  mit DJ Marc Kukka\n\n 
 Stylische Saturday-Night auf der Forsthofalm. Glamour\, Beats & Mountain V
 ibes bis November 2026.\n\n Start: 21:00 Uhr\n\n Adresse: Forsthofalm\, Hü
 tten 37\, 5771 Leogang\n\n\n\nDresscode: WHITE
DTSTART:20260530T190000Z
DTEND:20260530T190000Z
LOCATION;LANGUAGE=de:Holzhotel Forsthofalm\, Hütten 37
SUMMARY;LANGUAGE=de:White Night Forsthofalm
END:VEVENT
BEGIN:VEVENT
UID:20260422T194453CEST-2736HEoh1b@Saalfelden-Leogang.com
DTSTAMP:20260422T174453Z
DESCRIPTION;LANGUAGE=de:Jeden Samstag – White Night  mit DJ Marc Kukka\n\n 
 Stylische Saturday-Night auf der Forsthofalm. Glamour\, Beats & Mountain V
 ibes bis November 2026.\n\n Start: 21:00 Uhr\n\n Adresse: Forsthofalm\, Hü
 tten 37\, 5771 Leogang\n\n\n\nDresscode: WHITE
DTSTART:20260606T190000Z
DTEND:20260606T190000Z
LOCATION;LANGUAGE=de:Holzhotel Forsthofalm\, Hütten 37
SUMMARY;LANGUAGE=de:White Night Forsthofalm
END:VEVENT
BEGIN:VEVENT
UID:20260422T194453CEST-2736JuVbsI@Saalfelden-Leogang.com
DTSTAMP:20260422T174453Z
DESCRIPTION;LANGUAGE=de:Jeden Samstag – White Night  mit DJ Marc Kukka\n\n 
 Stylische Saturday-Night auf der Forsthofalm. Glamour\, Beats & Mountain V
 ibes bis November 2026.\n\n Start: 21:00 Uhr\n\n Adresse: Forsthofalm\, Hü
 tten 37\, 5771 Leogang\n\n\n\nDresscode: WHITE
DTSTART:20260613T190000Z
DTEND:20260613T190000Z
LOCATION;LANGUAGE=de:Holzhotel Forsthofalm\, Hütten 37
SUMMARY;LANGUAGE=de:White Night Forsthofalm
END:VEVENT
BEGIN:VEVENT
UID:20260422T194453CEST-2737NZi6vD@Saalfelden-Leogang.com
DTSTAMP:20260422T174453Z
DESCRIPTION;LANGUAGE=de:Jeden Samstag – White Night  mit DJ Marc Kukka\n\n 
 Stylische Saturday-Night auf der Forsthofalm. Glamour\, Beats & Mountain V
 ibes bis November 2026.\n\n Start: 21:00 Uhr\n\n Adresse: Forsthofalm\, Hü
 tten 37\, 5771 Leogang\n\n\n\nDresscode: WHITE
DTSTART:20260620T190000Z
DTEND:20260620T190000Z
LOCATION;LANGUAGE=de:Holzhotel Forsthofalm\, Hütten 37
SUMMARY;LANGUAGE=de:White Night Forsthofalm
END:VEVENT
BEGIN:VEVENT
UID:20260422T194453CEST-2737UM06Dt@Saalfelden-Leogang.com
DTSTAMP:20260422T174453Z
DESCRIPTION;LANGUAGE=de:Jeden Samstag – White Night  mit DJ Marc Kukka\n\n 
 Stylische Saturday-Night auf der Forsthofalm. Glamour\, Beats & Mountain V
 ibes bis November 2026.\n\n Start: 21:00 Uhr\n\n Adresse: Forsthofalm\, Hü
 tten 37\, 5771 Leogang\n\n\n\nDresscode: WHITE
DTSTART:20260627T190000Z
DTEND:20260627T190000Z
LOCATION;LANGUAGE=de:Holzhotel Forsthofalm\, Hütten 37
SUMMARY;LANGUAGE=de:White Night Forsthofalm
END:VEVENT
BEGIN:VEVENT
UID:20260422T194453CEST-2738brhuE3@Saalfelden-Leogang.com
DTSTAMP:20260422T174453Z
DESCRIPTION;LANGUAGE=de:Jeden Samstag – White Night  mit DJ Marc Kukka\n\n 
 Stylische Saturday-Night auf der Forsthofalm. Glamour\, Beats & Mountain V
 ibes bis November 2026.\n\n Start: 21:00 Uhr\n\n Adresse: Forsthofalm\, Hü
 tten 37\, 5771 Leogang\n\n\n\nDresscode: WHITE
DTSTART:20260704T190000Z
DTEND:20260704T190000Z
LOCATION;LANGUAGE=de:Holzhotel Forsthofalm\, Hütten 37
SUMMARY;LANGUAGE=de:White Night Forsthofalm
END:VEVENT
BEGIN:VEVENT
UID:20260422T194453CEST-2738jV5kPH@Saalfelden-Leogang.com
DTSTAMP:20260422T174453Z
DESCRIPTION;LANGUAGE=de:Jeden Samstag – White Night  mit DJ Marc Kukka\n\n 
 Stylische Saturday-Night auf der Forsthofalm. Glamour\, Beats & Mountain V
 ibes bis November 2026.\n\n Start: 21:00 Uhr\n\n Adresse: Forsthofalm\, Hü
 tten 37\, 5771 Leogang\n\n\n\nDresscode: WHITE
DTSTART:20260711T190000Z
DTEND:20260711T190000Z
LOCATION;LANGUAGE=de:Holzhotel Forsthofalm\, Hütten 37
SUMMARY;LANGUAGE=de:White Night Forsthofalm
END:VEVENT
BEGIN:VEVENT
UID:20260422T194453CEST-2739gvFTfa@Saalfelden-Leogang.com
DTSTAMP:20260422T174453Z
DESCRIPTION;LANGUAGE=de:Jeden Samstag – White Night  mit DJ Marc Kukka\n\n 
 Stylische Saturday-Night auf der Forsthofalm. Glamour\, Beats & Mountain V
 ibes bis November 2026.\n\n Start: 21:00 Uhr\n\n Adresse: Forsthofalm\, Hü
 tten 37\, 5771 Leogang\n\n\n\nDresscode: WHITE
DTSTART:20260718T190000Z
DTEND:20260718T190000Z
LOCATION;LANGUAGE=de:Holzhotel Forsthofalm\, Hütten 37
SUMMARY;LANGUAGE=de:White Night Forsthofalm
END:VEVENT
BEGIN:VEVENT
UID:20260422T194453CEST-2739DouB20@Saalfelden-Leogang.com
DTSTAMP:20260422T174453Z
DESCRIPTION;LANGUAGE=de:Jeden Samstag – White Night  mit DJ Marc Kukka\n\n 
 Stylische Saturday-Night auf der Forsthofalm. Glamour\, Beats & Mountain V
 ibes bis November 2026.\n\n Start: 21:00 Uhr\n\n Adresse: Forsthofalm\, Hü
 tten 37\, 5771 Leogang\n\n\n\nDresscode: WHITE
DTSTART:20260725T190000Z
DTEND:20260725T190000Z
LOCATION;LANGUAGE=de:Holzhotel Forsthofalm\, Hütten 37
SUMMARY;LANGUAGE=de:White Night Forsthofalm
END:VEVENT
BEGIN:VEVENT
UID:20260422T194453CEST-2739uRi7UU@Saalfelden-Leogang.com
DTSTAMP:20260422T174453Z
DESCRIPTION;LANGUAGE=de:Jeden Samstag – White Night  mit DJ Marc Kukka\n\n 
 Stylische Saturday-Night auf der Forsthofalm. Glamour\, Beats & Mountain V
 ibes bis November 2026.\n\n Start: 21:00 Uhr\n\n Adresse: Forsthofalm\, Hü
 tten 37\, 5771 Leogang\n\n\n\nDresscode: WHITE
DTSTART:20260801T190000Z
DTEND:20260801T190000Z
LOCATION;LANGUAGE=de:Holzhotel Forsthofalm\, Hütten 37
SUMMARY;LANGUAGE=de:White Night Forsthofalm
END:VEVENT
BEGIN:VEVENT
UID:20260422T194453CEST-2740W9xJOj@Saalfelden-Leogang.com
DTSTAMP:20260422T174453Z
DESCRIPTION;LANGUAGE=de:Jeden Samstag – White Night  mit DJ Marc Kukka\n\n 
 Stylische Saturday-Night auf der Forsthofalm. Glamour\, Beats & Mountain V
 ibes bis November 2026.\n\n Start: 21:00 Uhr\n\n Adresse: Forsthofalm\, Hü
 tten 37\, 5771 Leogang\n\n\n\nDresscode: WHITE
DTSTART:20260808T190000Z
DTEND:20260808T190000Z
LOCATION;LANGUAGE=de:Holzhotel Forsthofalm\, Hütten 37
SUMMARY;LANGUAGE=de:White Night Forsthofalm
END:VEVENT
BEGIN:VEVENT
UID:20260422T194453CEST-2740emINA1@Saalfelden-Leogang.com
DTSTAMP:20260422T174453Z
DESCRIPTION;LANGUAGE=de:Jeden Samstag – White Night  mit DJ Marc Kukka\n\n 
 Stylische Saturday-Night auf der Forsthofalm. Glamour\, Beats & Mountain V
 ibes bis November 2026.\n\n Start: 21:00 Uhr\n\n Adresse: Forsthofalm\, Hü
 tten 37\, 5771 Leogang\n\n\n\nDresscode: WHITE
DTSTART:20260815T190000Z
DTEND:20260815T190000Z
LOCATION;LANGUAGE=de:Holzhotel Forsthofalm\, Hütten 37
SUMMARY;LANGUAGE=de:White Night Forsthofalm
END:VEVENT
BEGIN:VEVENT
UID:20260422T194453CEST-2741znp8It@Saalfelden-Leogang.com
DTSTAMP:20260422T174453Z
DESCRIPTION;LANGUAGE=de:Jeden Samstag – White Night  mit DJ Marc Kukka\n\n 
 Stylische Saturday-Night auf der Forsthofalm. Glamour\, Beats & Mountain V
 ibes bis November 2026.\n\n Start: 21:00 Uhr\n\n Adresse: Forsthofalm\, Hü
 tten 37\, 5771 Leogang\n\n\n\nDresscode: WHITE
DTSTART:20260822T190000Z
DTEND:20260822T190000Z
LOCATION;LANGUAGE=de:Holzhotel Forsthofalm\, Hütten 37
SUMMARY;LANGUAGE=de:White Night Forsthofalm
END:VEVENT
BEGIN:VEVENT
UID:20260422T194453CEST-2741sffRDI@Saalfelden-Leogang.com
DTSTAMP:20260422T174453Z
DESCRIPTION;LANGUAGE=de:Jeden Samstag – White Night  mit DJ Marc Kukka\n\n 
 Stylische Saturday-Night auf der Forsthofalm. Glamour\, Beats & Mountain V
 ibes bis November 2026.\n\n Start: 21:00 Uhr\n\n Adresse: Forsthofalm\, Hü
 tten 37\, 5771 Leogang\n\n\n\nDresscode: WHITE
DTSTART:20260829T190000Z
DTEND:20260829T190000Z
LOCATION;LANGUAGE=de:Holzhotel Forsthofalm\, Hütten 37
SUMMARY;LANGUAGE=de:White Night Forsthofalm
END:VEVENT
BEGIN:VEVENT
UID:20260422T194453CEST-2742ai2j2U@Saalfelden-Leogang.com
DTSTAMP:20260422T174453Z
DESCRIPTION;LANGUAGE=de:Jeden Samstag – White Night  mit DJ Marc Kukka\n\n 
 Stylische Saturday-Night auf der Forsthofalm. Glamour\, Beats & Mountain V
 ibes bis November 2026.\n\n Start: 21:00 Uhr\n\n Adresse: Forsthofalm\, Hü
 tten 37\, 5771 Leogang\n\n\n\nDresscode: WHITE
DTSTART:20260905T190000Z
DTEND:20260905T190000Z
LOCATION;LANGUAGE=de:Holzhotel Forsthofalm\, Hütten 37
SUMMARY;LANGUAGE=de:White Night Forsthofalm
END:VEVENT
BEGIN:VEVENT
UID:20260422T194453CEST-2742NsC8fU@Saalfelden-Leogang.com
DTSTAMP:20260422T174453Z
DESCRIPTION;LANGUAGE=de:Jeden Samstag – White Night  mit DJ Marc Kukka\n\n 
 Stylische Saturday-Night auf der Forsthofalm. Glamour\, Beats & Mountain V
 ibes bis November 2026.\n\n Start: 21:00 Uhr\n\n Adresse: Forsthofalm\, Hü
 tten 37\, 5771 Leogang\n\n\n\nDresscode: WHITE
DTSTART:20260912T190000Z
DTEND:20260912T190000Z
LOCATION;LANGUAGE=de:Holzhotel Forsthofalm\, Hütten 37
SUMMARY;LANGUAGE=de:White Night Forsthofalm
END:VEVENT
BEGIN:VEVENT
UID:20260422T194453CEST-2742UCwOdN@Saalfelden-Leogang.com
DTSTAMP:20260422T174453Z
DESCRIPTION;LANGUAGE=de:Jeden Samstag – White Night  mit DJ Marc Kukka\n\n 
 Stylische Saturday-Night auf der Forsthofalm. Glamour\, Beats & Mountain V
 ibes bis November 2026.\n\n Start: 21:00 Uhr\n\n Adresse: Forsthofalm\, Hü
 tten 37\, 5771 Leogang\n\n\n\nDresscode: WHITE
DTSTART:20260919T190000Z
DTEND:20260919T190000Z
LOCATION;LANGUAGE=de:Holzhotel Forsthofalm\, Hütten 37
SUMMARY;LANGUAGE=de:White Night Forsthofalm
END:VEVENT
BEGIN:VEVENT
UID:20260422T194453CEST-2743i337sr@Saalfelden-Leogang.com
DTSTAMP:20260422T174453Z
DESCRIPTION;LANGUAGE=de:Jeden Samstag – White Night  mit DJ Marc Kukka\n\n 
 Stylische Saturday-Night auf der Forsthofalm. Glamour\, Beats & Mountain V
 ibes bis November 2026.\n\n Start: 21:00 Uhr\n\n Adresse: Forsthofalm\, Hü
 tten 37\, 5771 Leogang\n\n\n\nDresscode: WHITE
DTSTART:20260926T190000Z
DTEND:20260926T190000Z
LOCATION;LANGUAGE=de:Holzhotel Forsthofalm\, Hütten 37
SUMMARY;LANGUAGE=de:White Night Forsthofalm
END:VEVENT
BEGIN:VEVENT
UID:20260422T194453CEST-2743Z1IFTB@Saalfelden-Leogang.com
DTSTAMP:20260422T174453Z
DESCRIPTION;LANGUAGE=de:Jeden Samstag – White Night  mit DJ Marc Kukka\n\n 
 Stylische Saturday-Night auf der Forsthofalm. Glamour\, Beats & Mountain V
 ibes bis November 2026.\n\n Start: 21:00 Uhr\n\n Adresse: Forsthofalm\, Hü
 tten 37\, 5771 Leogang\n\n\n\nDresscode: WHITE
DTSTART:20261003T190000Z
DTEND:20261003T190000Z
LOCATION;LANGUAGE=de:Holzhotel Forsthofalm\, Hütten 37
SUMMARY;LANGUAGE=de:White Night Forsthofalm
END:VEVENT
BEGIN:VEVENT
UID:20260422T194453CEST-2744sVi5uv@Saalfelden-Leogang.com
DTSTAMP:20260422T174453Z
DESCRIPTION;LANGUAGE=de:Jeden Samstag – White Night  mit DJ Marc Kukka\n\n 
 Stylische Saturday-Night auf der Forsthofalm. Glamour\, Beats & Mountain V
 ibes bis November 2026.\n\n Start: 21:00 Uhr\n\n Adresse: Forsthofalm\, Hü
 tten 37\, 5771 Leogang\n\n\n\nDresscode: WHITE
DTSTART:20261010T190000Z
DTEND:20261010T190000Z
LOCATION;LANGUAGE=de:Holzhotel Forsthofalm\, Hütten 37
SUMMARY;LANGUAGE=de:White Night Forsthofalm
END:VEVENT
BEGIN:VEVENT
UID:20260422T194453CEST-2744nfEFVN@Saalfelden-Leogang.com
DTSTAMP:20260422T174453Z
DESCRIPTION;LANGUAGE=de:Jeden Samstag – White Night  mit DJ Marc Kukka\n\n 
 Stylische Saturday-Night auf der Forsthofalm. Glamour\, Beats & Mountain V
 ibes bis November 2026.\n\n Start: 21:00 Uhr\n\n Adresse: Forsthofalm\, Hü
 tten 37\, 5771 Leogang\n\n\n\nDresscode: WHITE
DTSTART:20261017T190000Z
DTEND:20261017T190000Z
LOCATION;LANGUAGE=de:Holzhotel Forsthofalm\, Hütten 37
SUMMARY;LANGUAGE=de:White Night Forsthofalm
END:VEVENT
BEGIN:VEVENT
UID:20260422T194453CEST-2745Pkf6be@Saalfelden-Leogang.com
DTSTAMP:20260422T174453Z
DESCRIPTION;LANGUAGE=de:Jeden Samstag – White Night  mit DJ Marc Kukka\n\n 
 Stylische Saturday-Night auf der Forsthofalm. Glamour\, Beats & Mountain V
 ibes bis November 2026.\n\n Start: 21:00 Uhr\n\n Adresse: Forsthofalm\, Hü
 tten 37\, 5771 Leogang\n\n\n\nDresscode: WHITE
DTSTART:20261024T190000Z
DTEND:20261024T190000Z
LOCATION;LANGUAGE=de:Holzhotel Forsthofalm\, Hütten 37
SUMMARY;LANGUAGE=de:White Night Forsthofalm
END:VEVENT
BEGIN:VEVENT
UID:20260422T194453CEST-2745fBvvuM@Saalfelden-Leogang.com
DTSTAMP:20260422T174453Z
DESCRIPTION;LANGUAGE=de:Jeden Samstag – White Night  mit DJ Marc Kukka\n\n 
 Stylische Saturday-Night auf der Forsthofalm. Glamour\, Beats & Mountain V
 ibes bis November 2026.\n\n Start: 21:00 Uhr\n\n Adresse: Forsthofalm\, Hü
 tten 37\, 5771 Leogang\n\n\n\nDresscode: WHITE
DTSTART:20261031T200000Z
DTEND:20261031T200000Z
LOCATION;LANGUAGE=de:Holzhotel Forsthofalm\, Hütten 37
SUMMARY;LANGUAGE=de:White Night Forsthofalm
END:VEVENT
END:VCALENDAR
